BEGIN:VCALENDAR
VERSION:2.0
CALSCALE:GREGORIAN
PRODID:-//Diputació de Barcelona//DibaCMS//EN
BEGIN:VEVENT
UID:21901
DTSTAMP:20260425T021321
DTSTART:20230819T220000
DTEND:20230819T220000
SUMMARY:Empaitafoc
LOCATION:08755 Castellbisbal
METHOD:PUBLISH
X-WR-CALNAME:comunicacio@castellbisbal.cat
X-WR-TIMEZONE:Europe/Madrid
DESCRIPTION:A les 22.00 h, inici a la Plaça de l'Església

URI:https://www.castellbisbal.cat/actualitat/agenda/21901-empaitafoc.html
CLASS:PUBLIC
END:VEVENT
END:VCALENDAR
