BEGIN:VCALENDAR
VERSION:2.0
CALSCALE:GREGORIAN
PRODID:-//Diputació de Barcelona//DibaCMS//EN
BEGIN:VEVENT
UID:21902
DTSTAMP:20260424T124240
DTSTART:20230820T000000
DTEND:20230820T000000
SUMMARY:Ball de l'empaitafoc amb el grup La loca histeria
LOCATION:08755 Castellbisbal
METHOD:PUBLISH
X-WR-CALNAME:comunicacio@castellbisbal.cat
X-WR-TIMEZONE:Europe/Madrid
DESCRIPTION:A les 00.00 h, a la Plaça de l'Església

URI:https://www.castellbisbal.cat/actualitat/agenda/ball-de-lempaitafoc-amb-el-grup-la-loca-histeria.html
CLASS:PUBLIC
END:VEVENT
END:VCALENDAR
