BEGIN:VCALENDAR
VERSION:2.0
CALSCALE:GREGORIAN
PRODID:-//Diputació de Barcelona//DibaCMS//EN
BEGIN:VEVENT
UID:21903
DTSTAMP:20260424T142133
DTSTART:20230820T023000
DTEND:20230820T023000
SUMMARY:Ballera de capsigranys
LOCATION:Plaça del Joc 08755 Castellbisbal
METHOD:PUBLISH
X-WR-CALNAME:comunicacio@castellbisbal.cat
X-WR-TIMEZONE:Europe/Madrid
DESCRIPTION:A les 02.30 h, a la plaça del Joc

URI:https://www.castellbisbal.cat/actualitat/agenda/21903-ballera-de-capsigranys.html
CLASS:PUBLIC
END:VEVENT
END:VCALENDAR
