BEGIN:VCALENDAR
VERSION:2.0
CALSCALE:GREGORIAN
PRODID:-//Diputació de Barcelona//DibaCMS//EN
BEGIN:VEVENT
UID:21904
DTSTAMP:20260424T175655
DTSTART:20230820T034500
DTEND:20230820T034500
SUMMARY:Trattore di Transito Sound System
LOCATION:
METHOD:PUBLISH
X-WR-CALNAME:comunicacio@castellbisbal.cat
X-WR-TIMEZONE:Europe/Madrid
DESCRIPTION:A les 03.45 h, itinerant

URI:https://www.castellbisbal.cat/actualitat/agenda/trattore-di-transito-sound-system.html
CLASS:PUBLIC
END:VEVENT
END:VCALENDAR
