BEGIN:VCALENDAR
VERSION:2.0
CALSCALE:GREGORIAN
PRODID:-//Diputació de Barcelona//DibaCMS//EN
BEGIN:VEVENT
UID:21908
DTSTAMP:20260424T204455
DTSTART:20230820T094500
DTEND:20230820T094500
SUMMARY:Cursa atlètica infantil de Festa Major solidària
LOCATION:
METHOD:PUBLISH
X-WR-CALNAME:comunicacio@castellbisbal.cat
X-WR-TIMEZONE:Europe/Madrid
DESCRIPTION:A les 9.45 h, circuit urbà, sortida de l'av. Pau Casals davant de l'Escola Montserrat

URI:https://www.castellbisbal.cat/actualitat/agenda/21908-cursa-atletica-infantil-de-festa-major-solidaria.html
CLASS:PUBLIC
END:VEVENT
END:VCALENDAR
