BEGIN:VCALENDAR
VERSION:2.0
CALSCALE:GREGORIAN
PRODID:-//Diputació de Barcelona//DibaCMS//EN
BEGIN:VEVENT
UID:21910
DTSTAMP:20260424T192004
DTSTART:20230820T110000
DTEND:20230820T110000
SUMMARY:Ofici de Festa Major
LOCATION:Plaça de l'Església 1 08755 Castellbisbal
METHOD:PUBLISH
X-WR-CALNAME:comunicacio@castellbisbal.cat
X-WR-TIMEZONE:Europe/Madrid
DESCRIPTION:A les 11.00 h, a l'Església Parroquial

URI:https://www.castellbisbal.cat/actualitat/agenda/21910-ofici-de-festa-major.html
CLASS:PUBLIC
END:VEVENT
END:VCALENDAR
