BEGIN:VCALENDAR
VERSION:2.0
CALSCALE:GREGORIAN
PRODID:-//Diputació de Barcelona//DibaCMS//EN
BEGIN:VEVENT
UID:21912
DTSTAMP:20260424T204837
DTSTART:20230820T123000
DTEND:20230820T123000
SUMMARY:Acte de recreació històrica
LOCATION:
METHOD:PUBLISH
X-WR-CALNAME:comunicacio@castellbisbal.cat
X-WR-TIMEZONE:Europe/Madrid
DESCRIPTION:A les 12.30 h, itinerant, inici al Museu de la Pagesia

URI:https://www.castellbisbal.cat/actualitat/agenda/21912-acte-de-recreacio-historica.html
CLASS:PUBLIC
END:VEVENT
END:VCALENDAR
