BEGIN:VCALENDAR
VERSION:2.0
CALSCALE:GREGORIAN
PRODID:-//Diputació de Barcelona//DibaCMS//EN
BEGIN:VEVENT
UID:21913
DTSTAMP:20260424T194810
DTSTART:20230820T130000
DTEND:20230820T130000
SUMMARY:Concert vermut amb Yolanda Sikara: homenatge a Núria Feliu
LOCATION:
METHOD:PUBLISH
X-WR-CALNAME:comunicacio@castellbisbal.cat
X-WR-TIMEZONE:Europe/Madrid
DESCRIPTION:A les 13.00 h, al carrer Major (davant de l'antic Cafè l'Aranya)

URI:https://www.castellbisbal.cat/actualitat/agenda/concert-vermut-amb-yolanda-sikara-homenatge-a-nuria-feliu.html
CLASS:PUBLIC
END:VEVENT
END:VCALENDAR
