BEGIN:VCALENDAR
VERSION:2.0
CALSCALE:GREGORIAN
PRODID:-//Diputació de Barcelona//DibaCMS//EN
BEGIN:VEVENT
UID:21915
DTSTAMP:20260424T160238
DTSTART:20230820T180000
DTEND:20230820T180000
SUMMARY:Partit de futbol
LOCATION:
METHOD:PUBLISH
X-WR-CALNAME:comunicacio@castellbisbal.cat
X-WR-TIMEZONE:Europe/Madrid
DESCRIPTION:A les 18.00 h, al Camp de futbol

URI:https://www.castellbisbal.cat/actualitat/agenda/21915-partit-de-futbol.html
CLASS:PUBLIC
END:VEVENT
END:VCALENDAR
