BEGIN:VCALENDAR
VERSION:2.0
CALSCALE:GREGORIAN
PRODID:-//Diputació de Barcelona//DibaCMS//EN
BEGIN:VEVENT
UID:21917
DTSTAMP:20260424T223759
DTSTART:20230820T180000
DTEND:20230820T180000
SUMMARY:Tast d'artesans
LOCATION:Carrer Pi i Margall, 13 08755 Castellbisbal
METHOD:PUBLISH
X-WR-CALNAME:comunicacio@castellbisbal.cat
X-WR-TIMEZONE:Europe/Madrid
DESCRIPTION:A les 18.00 h, al Museu de la Pagesia

URI:https://www.castellbisbal.cat/actualitat/agenda/21917-tast-dartesans.html
CLASS:PUBLIC
END:VEVENT
END:VCALENDAR
