BEGIN:VCALENDAR
VERSION:2.0
CALSCALE:GREGORIAN
PRODID:-//Diputació de Barcelona//DibaCMS//EN
BEGIN:VEVENT
UID:21918
DTSTAMP:20260425T001832
DTSTART:20230820T183000
DTEND:20230820T183000
SUMMARY:Flashmob + Party amb PD Parmigiano + Còctels sense alcohol
LOCATION:
METHOD:PUBLISH
X-WR-CALNAME:comunicacio@castellbisbal.cat
X-WR-TIMEZONE:Europe/Madrid
DESCRIPTION:A les 18.30 h, itinerant, inici al carrer de l'Onze de Setembre davant del camp de futbol

URI:https://www.castellbisbal.cat/actualitat/agenda/flashmob--party-amb-pd-parmigiano--coctels-sense-alcohol.html
CLASS:PUBLIC
END:VEVENT
END:VCALENDAR
