BEGIN:VCALENDAR
VERSION:2.0
CALSCALE:GREGORIAN
PRODID:-//Diputació de Barcelona//DibaCMS//EN
BEGIN:VEVENT
UID:21919
DTSTAMP:20260424T093604
DTSTART:20230820T190000
DTEND:20230820T190000
SUMMARY:Daltabaix 2023
LOCATION:
METHOD:PUBLISH
X-WR-CALNAME:comunicacio@castellbisbal.cat
X-WR-TIMEZONE:Europe/Madrid
DESCRIPTION:A les 19.00 h, a La Bassa

URI:https://www.castellbisbal.cat/actualitat/agenda/daltabaix-2023.html
CLASS:PUBLIC
END:VEVENT
END:VCALENDAR
