BEGIN:VCALENDAR
VERSION:2.0
CALSCALE:GREGORIAN
PRODID:-//Diputació de Barcelona//DibaCMS//EN
BEGIN:VEVENT
UID:21921
DTSTAMP:20260424T064048
DTSTART:20230731T190000
DTEND:20230731T190000
SUMMARY:Ple ordinari del mes de juliol
LOCATION:Avinguda de Pau Casals, 9 08755 Castellbisbal
METHOD:PUBLISH
X-WR-CALNAME:comunicacio@castellbisbal.cat
X-WR-TIMEZONE:Europe/Madrid
DESCRIPTION:A les 19.00 h, a la sala de plens de l'Ajuntament

URI:https://www.castellbisbal.cat/actualitat/agenda/21921-ple-ordinari-del-mes-de-juliol.html
CLASS:PUBLIC
END:VEVENT
END:VCALENDAR
