BEGIN:VCALENDAR
VERSION:2.0
CALSCALE:GREGORIAN
PRODID:-//Diputació de Barcelona//DibaCMS//EN
BEGIN:VEVENT
UID:21923
DTSTAMP:20260424T202833
DTSTART:20230820T220000
DTEND:20230820T220000
SUMMARY:Concert i ball de 50è aniversari del Casal amb la Cobla Principal de la Bisbal
LOCATION:Av. de Pau Casals 7 08755 Castellbisbal
METHOD:PUBLISH
X-WR-CALNAME:comunicacio@castellbisbal.cat
X-WR-TIMEZONE:Europe/Madrid
DESCRIPTION:A les 22.00 h, al Casal Cultural i Recreatiu de Castellbisbal

URI:https://www.castellbisbal.cat/actualitat/agenda/concert-i-ball-de-50e-aniversari-del-casal-amb-la-cobla-principal-de-la-bisbal.html
CLASS:PUBLIC
END:VEVENT
END:VCALENDAR
