BEGIN:VCALENDAR
VERSION:2.0
CALSCALE:GREGORIAN
PRODID:-//Diputació de Barcelona//DibaCMS//EN
BEGIN:VEVENT
UID:21924
DTSTAMP:20260424T233535
DTSTART:20230820T230000
DTEND:20230820T230000
SUMMARY:Concert amb La Central de los Grandes Éxitos
LOCATION:08755 Castellbisbal
METHOD:PUBLISH
X-WR-CALNAME:comunicacio@castellbisbal.cat
X-WR-TIMEZONE:Europe/Madrid
DESCRIPTION:A les 23.00 h, a la Plaça de l'Església

URI:https://www.castellbisbal.cat/actualitat/agenda/concert-amb-la-central-de-los-grandes-exitos.html
CLASS:PUBLIC
END:VEVENT
END:VCALENDAR
