BEGIN:VCALENDAR
VERSION:2.0
CALSCALE:GREGORIAN
PRODID:-//Diputació de Barcelona//DibaCMS//EN
BEGIN:VEVENT
UID:21925
DTSTAMP:20260424T123816
DTSTART:20230821T010000
DTEND:20230821T010000
SUMMARY:Concert amb Angel de Marelu
LOCATION:08755 Castellbisbal
METHOD:PUBLISH
X-WR-CALNAME:comunicacio@castellbisbal.cat
X-WR-TIMEZONE:Europe/Madrid
DESCRIPTION:Tot seguit, a la Plaça de l'Església

URI:https://www.castellbisbal.cat/actualitat/agenda/concert-amb-angel-de-marelu.html
CLASS:PUBLIC
END:VEVENT
END:VCALENDAR
