BEGIN:VCALENDAR
VERSION:2.0
CALSCALE:GREGORIAN
PRODID:-//Diputació de Barcelona//DibaCMS//EN
BEGIN:VEVENT
UID:21927
DTSTAMP:20260424T013833
DTSTART:20230821T110000
DTEND:20230821T110000
SUMMARY:El laberint del cucut
LOCATION:Av. de Pau Casals, 20 08755 Castellbisbal
METHOD:PUBLISH
X-WR-CALNAME:comunicacio@castellbisbal.cat
X-WR-TIMEZONE:Europe/Madrid
DESCRIPTION:A les 11.00 h, a la pista coberta de l'Escola Montserrat

URI:https://www.castellbisbal.cat/actualitat/agenda/el-laberint-del-cucut.html
CLASS:PUBLIC
END:VEVENT
END:VCALENDAR
