BEGIN:VCALENDAR
VERSION:2.0
CALSCALE:GREGORIAN
PRODID:-//Diputació de Barcelona//DibaCMS//EN
BEGIN:VEVENT
UID:21928
DTSTAMP:20260424T014111
DTSTART:20230821T180000
DTEND:20230821T180000
SUMMARY:Carrers de circ
LOCATION:
METHOD:PUBLISH
X-WR-CALNAME:comunicacio@castellbisbal.cat
X-WR-TIMEZONE:Europe/Madrid
DESCRIPTION:A les 18.00, itinerari, inici a la pista de l'Escola Montserrat

URI:https://www.castellbisbal.cat/actualitat/agenda/21928-carrers-de-circ.html
CLASS:PUBLIC
END:VEVENT
END:VCALENDAR
