BEGIN:VCALENDAR
VERSION:2.0
CALSCALE:GREGORIAN
PRODID:-//Diputació de Barcelona//DibaCMS//EN
BEGIN:VEVENT
UID:21929
DTSTAMP:20260423T222349
DTSTART:20230821T193000
DTEND:20230821T193000
SUMMARY:Ballada de sardanes
LOCATION:08755 Castellbisbal
METHOD:PUBLISH
X-WR-CALNAME:comunicacio@castellbisbal.cat
X-WR-TIMEZONE:Europe/Madrid
DESCRIPTION:A les 19.30 h, a la Plaça de l'Església

URI:https://www.castellbisbal.cat/actualitat/agenda/21929-ballada-de-sardanes.html
CLASS:PUBLIC
END:VEVENT
END:VCALENDAR
