BEGIN:VCALENDAR
VERSION:2.0
CALSCALE:GREGORIAN
PRODID:-//Diputació de Barcelona//DibaCMS//EN
BEGIN:VEVENT
UID:21930
DTSTAMP:20260424T205320
DTSTART:20230821T193000
DTEND:20230821T193000
SUMMARY:Sopar fi de festa
LOCATION:08755 Castellbisbal
METHOD:PUBLISH
X-WR-CALNAME:comunicacio@castellbisbal.cat
X-WR-TIMEZONE:Europe/Madrid
DESCRIPTION:A les 21.00 h, a l'Envelat del parc de Folch i Torres

URI:https://www.castellbisbal.cat/actualitat/agenda/sopar-fi-de-festa.html
CLASS:PUBLIC
END:VEVENT
END:VCALENDAR
