BEGIN:VCALENDAR
VERSION:2.0
CALSCALE:GREGORIAN
PRODID:-//Diputació de Barcelona//DibaCMS//EN
BEGIN:VEVENT
UID:21936
DTSTAMP:20260425T052649
DTSTART:20231120T000000
DTEND:20231212T000000
SUMMARY:Curs Sage Contaplus
LOCATION:
METHOD:PUBLISH
X-WR-CALNAME:comunicacio@castellbisbal.cat
X-WR-TIMEZONE:Europe/Madrid
DESCRIPTION:Del 20 de novembre al 12 de desembre, a l'aula multimèdia d'Els Costals

URI:https://www.castellbisbal.cat/actualitat/agenda/21936-curs-sage-contaplus.html
CLASS:PUBLIC
END:VEVENT
END:VCALENDAR
