BEGIN:VCALENDAR
VERSION:2.0
CALSCALE:GREGORIAN
PRODID:-//Diputació de Barcelona//DibaCMS//EN
BEGIN:VEVENT
UID:21937
DTSTAMP:20260424T050308
DTSTART:20231213T000000
DTEND:20231218T000000
SUMMARY:Curs d'operador/a de carretó elevador
LOCATION:
METHOD:PUBLISH
X-WR-CALNAME:comunicacio@castellbisbal.cat
X-WR-TIMEZONE:Europe/Madrid
DESCRIPTION:Del 13 al 18 de desembre

URI:https://www.castellbisbal.cat/actualitat/agenda/21937-curs-doperadora-de-carreto-elevador.html
CLASS:PUBLIC
END:VEVENT
END:VCALENDAR
