BEGIN:VCALENDAR
VERSION:2.0
CALSCALE:GREGORIAN
PRODID:-//Diputació de Barcelona//DibaCMS//EN
BEGIN:VEVENT
UID:21940
DTSTAMP:20260425T005944
DTSTART:20230910T110000
DTEND:20230910T110000
SUMMARY:Jugatecambiental. La natura en colors
LOCATION:Parc de l'Ermita 08755 Castellbisbal
METHOD:PUBLISH
X-WR-CALNAME:comunicacio@castellbisbal.cat
X-WR-TIMEZONE:Europe/Madrid
DESCRIPTION:D'11.00 a 13.30 h, al parc de l'Ermita

URI:https://www.castellbisbal.cat/actualitat/agenda/jugatecambiental-la-natura-en-colors.html
CLASS:PUBLIC
END:VEVENT
END:VCALENDAR
