BEGIN:VCALENDAR
VERSION:2.0
CALSCALE:GREGORIAN
PRODID:-//Diputació de Barcelona//DibaCMS//EN
BEGIN:VEVENT
UID:21944
DTSTAMP:20260424T202255
DTSTART:20231008T110000
DTEND:20231008T110000
SUMMARY:Jugatecambiental. El regne animal: invertebrats terrestres
LOCATION:Parc de l'Ermita 08755 Castellbisbal
METHOD:PUBLISH
X-WR-CALNAME:comunicacio@castellbisbal.cat
X-WR-TIMEZONE:Europe/Madrid
DESCRIPTION:D'11.00 a 13.30 h, al parc de l'Ermita

URI:https://www.castellbisbal.cat/actualitat/agenda/21944-jugatecambiental-el-regne-animal-invertebrats-terrestres.html
CLASS:PUBLIC
END:VEVENT
END:VCALENDAR
