BEGIN:VCALENDAR
VERSION:2.0
CALSCALE:GREGORIAN
PRODID:-//Diputació de Barcelona//DibaCMS//EN
BEGIN:VEVENT
UID:21947
DTSTAMP:20260424T050452
DTSTART:20231029T110000
DTEND:20231029T110000
SUMMARY:Jugatecambiental. Kokedama: una tècnica de plantació japonesa
LOCATION:Parc de l'Ermita 08755 Castellbisbal
METHOD:PUBLISH
X-WR-CALNAME:comunicacio@castellbisbal.cat
X-WR-TIMEZONE:Europe/Madrid
DESCRIPTION:D'11.00 a 13.30 h, al parc de l'Ermita

URI:https://www.castellbisbal.cat/actualitat/agenda/jugatecambiental-kokedama-una-tecnica-de-plantacio-japonesa.html
CLASS:PUBLIC
END:VEVENT
END:VCALENDAR
