BEGIN:VCALENDAR
VERSION:2.0
CALSCALE:GREGORIAN
PRODID:-//Diputació de Barcelona//DibaCMS//EN
BEGIN:VEVENT
UID:21948
DTSTAMP:20260424T173612
DTSTART:20231105T110000
DTEND:20231105T110000
SUMMARY:Jugatecambiental. L'art de la natura
LOCATION:Parc de l'Ermita 08755 Castellbisbal
METHOD:PUBLISH
X-WR-CALNAME:comunicacio@castellbisbal.cat
X-WR-TIMEZONE:Europe/Madrid
DESCRIPTION:D'11.00 a 13.30 h, al parc de l'Ermita

URI:https://www.castellbisbal.cat/actualitat/agenda/21948-jugatecambiental-lart-de-la-natura.html
CLASS:PUBLIC
END:VEVENT
END:VCALENDAR
