BEGIN:VCALENDAR
VERSION:2.0
CALSCALE:GREGORIAN
PRODID:-//Diputació de Barcelona//DibaCMS//EN
BEGIN:VEVENT
UID:21952
DTSTAMP:20260423T143516
DTSTART:20231126T110000
DTEND:20231126T110000
SUMMARY:Jugatecambiental. Converteix-te en un superheroi de les 7R
LOCATION:Parc de l'Ermita 08755 Castellbisbal
METHOD:PUBLISH
X-WR-CALNAME:comunicacio@castellbisbal.cat
X-WR-TIMEZONE:Europe/Madrid
DESCRIPTION:D'11.00 a 13.30 h, al parc de l'Ermita

URI:https://www.castellbisbal.cat/actualitat/agenda/jugatecambiental-converteix-te-en-un-superheroi-de-les-7r.html
CLASS:PUBLIC
END:VEVENT
END:VCALENDAR
