BEGIN:VCALENDAR
VERSION:2.0
CALSCALE:GREGORIAN
PRODID:-//Diputació de Barcelona//DibaCMS//EN
BEGIN:VEVENT
UID:21963
DTSTAMP:20260424T175513
DTSTART:20230901T210000
DTEND:20230901T210000
SUMMARY:Festa Major Can Santeugini: Sopar
LOCATION:Carrer Montjuic, 14-20 08755 Castellbisbal
METHOD:PUBLISH
X-WR-CALNAME:comunicacio@castellbisbal.cat
X-WR-TIMEZONE:Europe/Madrid
DESCRIPTION:A les 21.00 hores, al local social de Can Santeugini

URI:https://www.castellbisbal.cat/actualitat/agenda/festa-major-can-santeugini-sopar.html
CLASS:PUBLIC
END:VEVENT
END:VCALENDAR
