BEGIN:VCALENDAR
VERSION:2.0
CALSCALE:GREGORIAN
PRODID:-//Diputació de Barcelona//DibaCMS//EN
BEGIN:VEVENT
UID:21964
DTSTAMP:20260424T202905
DTSTART:20230901T214500
DTEND:20230901T214500
SUMMARY:Festa Major Can Santeugini: Pregó
LOCATION:Carrer Montjuic, 14-20 08755 Castellbisbal
METHOD:PUBLISH
X-WR-CALNAME:comunicacio@castellbisbal.cat
X-WR-TIMEZONE:Europe/Madrid
DESCRIPTION:A les 21.45 hores, al local social de Can Santeugini

URI:https://www.castellbisbal.cat/actualitat/agenda/festa-major-can-santeugini-prego.html
CLASS:PUBLIC
END:VEVENT
END:VCALENDAR
