BEGIN:VCALENDAR
VERSION:2.0
CALSCALE:GREGORIAN
PRODID:-//Diputació de Barcelona//DibaCMS//EN
BEGIN:VEVENT
UID:21967
DTSTAMP:20260424T192132
DTSTART:20230902T123000
DTEND:20230902T123000
SUMMARY:Festa Major Can Santeugini: Vermut
LOCATION:Carrer Montjuic, 14-20 08755 Castellbisbal
METHOD:PUBLISH
X-WR-CALNAME:comunicacio@castellbisbal.cat
X-WR-TIMEZONE:Europe/Madrid
DESCRIPTION:A les 12.30 hores, al local social de Can Santeugini

URI:https://www.castellbisbal.cat/actualitat/agenda/festa-major-can-santeugini-vermut.html
CLASS:PUBLIC
END:VEVENT
END:VCALENDAR
