BEGIN:VCALENDAR
VERSION:2.0
CALSCALE:GREGORIAN
PRODID:-//Diputació de Barcelona//DibaCMS//EN
BEGIN:VEVENT
UID:21970
DTSTAMP:20260423T192424
DTSTART:20230902T230000
DTEND:20230902T230000
SUMMARY:Festa Major Can Santeugini: Orquestra de gala i DJ Juan Cris
LOCATION:Carrer Montjuic, 14-20 08755 Castellbisbal
METHOD:PUBLISH
X-WR-CALNAME:comunicacio@castellbisbal.cat
X-WR-TIMEZONE:Europe/Madrid
DESCRIPTION:A les 23.00 hores, al local social de Can Santeugini

URI:https://www.castellbisbal.cat/actualitat/agenda/festa-major-can-santeugini-orquestra-de-gala-i-dj-juan-cris.html
CLASS:PUBLIC
END:VEVENT
END:VCALENDAR
