BEGIN:VCALENDAR
VERSION:2.0
CALSCALE:GREGORIAN
PRODID:-//Diputació de Barcelona//DibaCMS//EN
BEGIN:VEVENT
UID:21973
DTSTAMP:20260424T033013
DTSTART:20230903T140000
DTEND:20230903T140000
SUMMARY:Festa Major Can Santeugini: Cloenda
LOCATION:Carrer Montjuic, 14-20 08755 Castellbisbal
METHOD:PUBLISH
X-WR-CALNAME:comunicacio@castellbisbal.cat
X-WR-TIMEZONE:Europe/Madrid
DESCRIPTION:A les 14.00 hores, al local social de Can Santeugini

URI:https://www.castellbisbal.cat/actualitat/agenda/festa-major-can-santeugini-cloenda.html
CLASS:PUBLIC
END:VEVENT
END:VCALENDAR
