BEGIN:VCALENDAR
VERSION:2.0
CALSCALE:GREGORIAN
PRODID:-//Diputació de Barcelona//DibaCMS//EN
BEGIN:VEVENT
UID:21974
DTSTAMP:20260423T224933
DTSTART:20230831T180000
DTEND:20230831T180000
SUMMARY:Festes d'estiu Can Campanyà: Festa dels menuts
LOCATION:Avinguda Gayarre, 47 08755 Castellbisbal
METHOD:PUBLISH
X-WR-CALNAME:comunicacio@castellbisbal.cat
X-WR-TIMEZONE:Europe/Madrid
DESCRIPTION:A partir de les 18.00 hores, al local social de Can Campanyà

URI:https://www.castellbisbal.cat/actualitat/agenda/festes-destiu-can-campanya-festa-dels-menuts.html
CLASS:PUBLIC
END:VEVENT
END:VCALENDAR
