BEGIN:VCALENDAR
VERSION:2.0
CALSCALE:GREGORIAN
PRODID:-//Diputació de Barcelona//DibaCMS//EN
BEGIN:VEVENT
UID:21999
DTSTAMP:20260424T035010
DTSTART:20230911T190000
DTEND:20230911T190000
SUMMARY:Audició de sardanes amb la Cobla La Principal de Terrassa
LOCATION:08755 Castellbisbal
METHOD:PUBLISH
X-WR-CALNAME:comunicacio@castellbisbal.cat
X-WR-TIMEZONE:Europe/Madrid
DESCRIPTION:A les 19.00 h, a la Plaça de l'Església

URI:https://www.castellbisbal.cat/actualitat/agenda/21999-audicio-de-sardanes-amb-la-cobla-la-principal-de-terrassa.html
CLASS:PUBLIC
END:VEVENT
END:VCALENDAR
