BEGIN:VCALENDAR
VERSION:2.0
CALSCALE:GREGORIAN
PRODID:-//Diputació de Barcelona//DibaCMS//EN
BEGIN:VEVENT
UID:22002
DTSTAMP:20260423T174309
DTSTART:20230923T210000
DTEND:20230923T210000
SUMMARY:Festa Major Costablanca: Sopar amb música ambiental
LOCATION:Passeig del Torrent, 18-22 08755 Castellbisbal
METHOD:PUBLISH
X-WR-CALNAME:comunicacio@castellbisbal.cat
X-WR-TIMEZONE:Europe/Madrid
DESCRIPTION:De 21.00 a 23.00 h, al local social de Costablanca

URI:https://www.castellbisbal.cat/actualitat/agenda/festa-major-costablanca-sopar-amb-musica-ambiental.html
CLASS:PUBLIC
END:VEVENT
END:VCALENDAR
