BEGIN:VCALENDAR
VERSION:2.0
CALSCALE:GREGORIAN
PRODID:-//Diputació de Barcelona//DibaCMS//EN
BEGIN:VEVENT
UID:22003
DTSTAMP:20260423T175925
DTSTART:20230923T230000
DTEND:20230923T230000
SUMMARY:Festa Major Costablanca: Ball de Festa Major amb Trio Odisea 
LOCATION:Passeig del Torrent, 18-22 08755 Castellbisbal
METHOD:PUBLISH
X-WR-CALNAME:comunicacio@castellbisbal.cat
X-WR-TIMEZONE:Europe/Madrid
DESCRIPTION:De 23.00 a 1.00 h, al local social de Costablanca

URI:https://www.castellbisbal.cat/actualitat/agenda/festa-major-costablanca-ball-de-festa-major-amb-trio-odisea-.html
CLASS:PUBLIC
END:VEVENT
END:VCALENDAR
