BEGIN:VCALENDAR
VERSION:2.0
CALSCALE:GREGORIAN
PRODID:-//Diputació de Barcelona//DibaCMS//EN
BEGIN:VEVENT
UID:22005
DTSTAMP:20260424T124042
DTSTART:20230910T213000
DTEND:20230910T213000
SUMMARY:Lectura del manifest
LOCATION:Plaça de l'Església 08755 Castellbisbal
METHOD:PUBLISH
X-WR-CALNAME:comunicacio@castellbisbal.cat
X-WR-TIMEZONE:Europe/Madrid
DESCRIPTION:A partir de les 21.30 h, al Pati de l'Esbarjo

URI:https://www.castellbisbal.cat/actualitat/agenda/lectura-del-manifest.html
CLASS:PUBLIC
END:VEVENT
END:VCALENDAR
