BEGIN:VCALENDAR
VERSION:2.0
CALSCALE:GREGORIAN
PRODID:-//Diputació de Barcelona//DibaCMS//EN
BEGIN:VEVENT
UID:22010
DTSTAMP:20260424T015715
DTSTART:20231008T180000
DTEND:20231008T180000
SUMMARY:Teatre familiar: La faula de l'esquirol
LOCATION:Av. de Pau Casals, 16 08755 Castellbisbal
METHOD:PUBLISH
X-WR-CALNAME:comunicacio@castellbisbal.cat
X-WR-TIMEZONE:Europe/Madrid
DESCRIPTION:A les 18.00 h, a l'auditori d'Els Costals

URI:https://www.castellbisbal.cat/actualitat/agenda/teatre-familiar-la-faula-de-lesquirol.html
CLASS:PUBLIC
END:VEVENT
END:VCALENDAR
