BEGIN:VCALENDAR
VERSION:2.0
CALSCALE:GREGORIAN
PRODID:-//Diputació de Barcelona//DibaCMS//EN
BEGIN:VEVENT
UID:22015
DTSTAMP:20260424T172503
DTSTART:20230911T100000
DTEND:20230911T100000
SUMMARY:Acte institucional de la Diada Nacional de Catalunya
LOCATION:08755 Castellbisbal
METHOD:PUBLISH
X-WR-CALNAME:comunicacio@castellbisbal.cat
X-WR-TIMEZONE:Europe/Madrid
DESCRIPTION:A partir de les 10.00 h, a l'Espai Adjutori Segarra

URI:https://www.castellbisbal.cat/actualitat/agenda/22015-acte-institucional-de-la-diada-nacional-de-catalunya.html
CLASS:PUBLIC
END:VEVENT
END:VCALENDAR
