BEGIN:VCALENDAR
VERSION:2.0
CALSCALE:GREGORIAN
PRODID:-//Diputació de Barcelona//DibaCMS//EN
BEGIN:VEVENT
UID:22017
DTSTAMP:20260424T074547
DTSTART:20230917T110000
DTEND:20230917T110000
SUMMARY:Bicifesta: pedalada popular i altres sorpreses
LOCATION:Parc Folch i Torres 08755 Castellbisbal
METHOD:PUBLISH
X-WR-CALNAME:comunicacio@castellbisbal.cat
X-WR-TIMEZONE:Europe/Madrid
DESCRIPTION:Sortida a les 11.00 h, al parc Folch i Torres

URI:https://www.castellbisbal.cat/actualitat/agenda/bicifesta-pedalada-popular-i-altres-sorpreses.html
CLASS:PUBLIC
END:VEVENT
END:VCALENDAR
