BEGIN:VCALENDAR
VERSION:2.0
CALSCALE:GREGORIAN
PRODID:-//Diputació de Barcelona//DibaCMS//EN
BEGIN:VEVENT
UID:22039
DTSTAMP:20260423T192525
DTSTART:20231003T173000
DTEND:20231003T173000
SUMMARY:Exhibició dels grups de ball de l'Entitat de la Gent Gran
LOCATION:Av. de Pau Casals, 9 08755 Castellbisbal
METHOD:PUBLISH
X-WR-CALNAME:comunicacio@castellbisbal.cat
X-WR-TIMEZONE:Europe/Madrid
DESCRIPTION:A les 17.30 hores, a la sala d'actes de l'Ajuntament

URI:https://www.castellbisbal.cat/actualitat/agenda/exhibicio-dels-grups-de-ball-de-lentitat-de-la-gent-gran.html
CLASS:PUBLIC
END:VEVENT
END:VCALENDAR
