BEGIN:VCALENDAR
VERSION:2.0
CALSCALE:GREGORIAN
PRODID:-//Diputació de Barcelona//DibaCMS//EN
BEGIN:VEVENT
UID:22041
DTSTAMP:20260423T193006
DTSTART:20231004T170000
DTEND:20231004T170000
SUMMARY:Vine a aprendre a jugar escacs
LOCATION:Carrer de Sant Joan, 2 08755 Castellbisbal
METHOD:PUBLISH
X-WR-CALNAME:comunicacio@castellbisbal.cat
X-WR-TIMEZONE:Europe/Madrid
DESCRIPTION:A les 17.00 hores, al Casal de la Gent Gran

URI:https://www.castellbisbal.cat/actualitat/agenda/vine-a-aprendre-a-jugar-escacs.html
CLASS:PUBLIC
END:VEVENT
END:VCALENDAR
