BEGIN:VCALENDAR
VERSION:2.0
CALSCALE:GREGORIAN
PRODID:-//Diputació de Barcelona//DibaCMS//EN
BEGIN:VEVENT
UID:22043
DTSTAMP:20260424T225417
DTSTART:20230922T170000
DTEND:20230922T170000
SUMMARY:Vine a conèixer la Policia Local de Castellbisbal
LOCATION:Parc Folch i Torres 08755 Castellbisbal
METHOD:PUBLISH
X-WR-CALNAME:comunicacio@castellbisbal.cat
X-WR-TIMEZONE:Europe/Madrid
DESCRIPTION:A les 17.00 hores, al parc de Folch i Torres

URI:https://www.castellbisbal.cat/actualitat/agenda/vine-a-coneixer-la-policia-local-de-castellbisbal.html
CLASS:PUBLIC
END:VEVENT
END:VCALENDAR
