BEGIN:VCALENDAR
VERSION:2.0
CALSCALE:GREGORIAN
PRODID:-//Diputació de Barcelona//DibaCMS//EN
BEGIN:VEVENT
UID:22049
DTSTAMP:20260424T221919
DTSTART:20231006T081500
DTEND:20231006T081500
SUMMARY:Visita a Vilanova i la Geltrú
LOCATION:
METHOD:PUBLISH
X-WR-CALNAME:comunicacio@castellbisbal.cat
X-WR-TIMEZONE:Europe/Madrid
DESCRIPTION:Sortida a les 8.15 des de l'avinguda Gaudí

URI:https://www.castellbisbal.cat/actualitat/agenda/22049-visita-a-vilanova-i-la-geltru.html
CLASS:PUBLIC
END:VEVENT
END:VCALENDAR
