BEGIN:VCALENDAR
VERSION:2.0
CALSCALE:GREGORIAN
PRODID:-//Diputació de Barcelona//DibaCMS//EN
BEGIN:VEVENT
UID:22058
DTSTAMP:20260424T061120
DTSTART:20230929T090000
DTEND:20230929T090000
SUMMARY:Inscripcions i venda d'entrades per a les Jornades de la Gent Gran
LOCATION:Carrer de Sant Joan, 2 08755 Castellbisbal
METHOD:PUBLISH
X-WR-CALNAME:comunicacio@castellbisbal.cat
X-WR-TIMEZONE:Europe/Madrid
DESCRIPTION:28 i 29 de setembre, en horari de matí i tarda, al Casal de la Gent Gran

URI:https://www.castellbisbal.cat/actualitat/agenda/22058-inscripcions-i-venda-dentrades-per-a-les-jornades-de-la-gent-gran.html
CLASS:PUBLIC
END:VEVENT
END:VCALENDAR
