BEGIN:VCALENDAR
VERSION:2.0
CALSCALE:GREGORIAN
PRODID:-//Diputació de Barcelona//DibaCMS//EN
BEGIN:VEVENT
UID:22067
DTSTAMP:20260424T233555
DTSTART:20231028T120000
DTEND:20231028T120000
SUMMARY:Visita la Biblioteca!
LOCATION:Av. de Pau Casals, 16 08755 Castellbisbal
METHOD:PUBLISH
X-WR-CALNAME:comunicacio@castellbisbal.cat
X-WR-TIMEZONE:Europe/Madrid
DESCRIPTION:A les 12.00 hores, a la Biblioteca Municipal Josep Mateu i Miró

URI:https://www.castellbisbal.cat/actualitat/agenda/biblioteca/22067-visita-la-biblioteca.html
CLASS:PUBLIC
END:VEVENT
END:VCALENDAR
