BEGIN:VCALENDAR
VERSION:2.0
CALSCALE:GREGORIAN
PRODID:-//Diputació de Barcelona//DibaCMS//EN
BEGIN:VEVENT
UID:22070
DTSTAMP:20260424T104832
DTSTART:20231018T190000
DTEND:20231018T190000
SUMMARY:Nicolau Copèrnic. 550 anys del seu naixement
LOCATION:
METHOD:PUBLISH
X-WR-CALNAME:comunicacio@castellbisbal.cat
X-WR-TIMEZONE:Europe/Madrid
DESCRIPTION:Activitat en línia. A les 19.00 hores, a bibliotecavirtual.diba.cat

URI:https://www.castellbisbal.cat/actualitat/agenda/biblioteca/nicolau-copernic-550-anys-del-seu-naixement.html
CLASS:PUBLIC
END:VEVENT
END:VCALENDAR
