BEGIN:VCALENDAR
VERSION:2.0
CALSCALE:GREGORIAN
PRODID:-//Diputació de Barcelona//DibaCMS//EN
BEGIN:VEVENT
UID:22072
DTSTAMP:20260424T215027
DTSTART:20231024T173000
DTEND:20231024T173000
SUMMARY:Contes menuts: "El viatge de la tortuga ballaruga"
LOCATION:Av. de Pau Casals, 16 08755 Castellbisbal
METHOD:PUBLISH
X-WR-CALNAME:comunicacio@castellbisbal.cat
X-WR-TIMEZONE:Europe/Madrid
DESCRIPTION:A les 17.30 hores, a la Biblioteca Municipal

URI:https://www.castellbisbal.cat/actualitat/agenda/biblioteca/22072-contes-menuts-el-viatge-de-la-tortuga-ballaruga.html
CLASS:PUBLIC
END:VEVENT
END:VCALENDAR
