BEGIN:VCALENDAR
VERSION:2.0
CALSCALE:GREGORIAN
PRODID:-//Diputació de Barcelona//DibaCMS//EN
BEGIN:VEVENT
UID:22074
DTSTAMP:20260424T204656
DTSTART:20231013T170000
DTEND:20231013T170000
SUMMARY:Tarda de bàsquet
LOCATION:Carrer Francesc Macià, 64 08755 Castellbisbal
METHOD:PUBLISH
X-WR-CALNAME:comunicacio@castellbisbal.cat
X-WR-TIMEZONE:Europe/Madrid
DESCRIPTION:De 17.00 a 19.00 hores, al Racó Jove

URI:https://www.castellbisbal.cat/actualitat/agenda/22074-tarda-de-basquet.html
CLASS:PUBLIC
END:VEVENT
END:VCALENDAR
