BEGIN:VCALENDAR
VERSION:2.0
CALSCALE:GREGORIAN
PRODID:-//Diputació de Barcelona//DibaCMS//EN
BEGIN:VEVENT
UID:22080
DTSTAMP:20260424T224849
DTSTART:20231103T200000
DTEND:20231103T200000
SUMMARY:Teatre: "L'habitació de la nena" amb l'Elenc Teatral
LOCATION:Av. de Pau Casals, 16 08755 Castellbisbal
METHOD:PUBLISH
X-WR-CALNAME:comunicacio@castellbisbal.cat
X-WR-TIMEZONE:Europe/Madrid
DESCRIPTION:3 i 4 de novembre, a les 20.00 hores, a l'auditori d'Els Costals

URI:https://www.castellbisbal.cat/actualitat/agenda/teatre-lhabitacio-de-la-nena-amb-lelenc-teatral.html
CLASS:PUBLIC
END:VEVENT
END:VCALENDAR
